BEGIN:VCALENDAR
VERSION:2.0
PRODID:-//eventon.com NONSGML v1.0//EN
CALSCALE:GREGORIAN
METHOD:PUBLISH
BEGIN:VEVENT
UID:69e75587245a5
DTSTAMP:20260421T104631Z
DTSTART:20231009
DTEND:20231010
LOCATION:
SUMMARY:CANADA! Sign the petition to Exit the UN and Exit the WHO
DESCRIPTION:Back to Calendar\nhttps://doortofreedom.org/events/canada-sign-
 the-petition-to-exit-the-un-and-exit-the-who/
URL:https://doortofreedom.org/events/canada-sign-the-petition-to-exit-the-un-and-exit-the-who/
END:VEVENT
END:VCALENDAR